BEGIN:VCALENDAR
VERSION:2.0
PRODID:WorCo
X-WR-CALNAME:Historic Sites Tour
BEGIN:VEVENT
UID:193972024-05-11
DTSTART:20240511T140000Z
SEQUENCE:0
TRANSP:OPAQUE
DTEND:20240511T210000Z
LOCATION:813 South Atlantic Avenue\nOcean City Maryland 21842
X-APPLE-STRUCTURED-LOCATION;VALUE=URI;X-ADDRESS=813 South Atlantic Avenue\n
 Ocean City Maryland 21842;X-APPLE-RADIUS=49;X-TITLE=813 South Atlantic Ave
 nue:geo:38.325493,-75.087959
GEO:38.325493;-75.087959
SUMMARY:Historic Sites Tour
CLASS:PUBLIC
DESCRIPTION:Saturday May 11th\, the Ocean City Museum Society will have its
 \nHistoric Sites Tour from 10:00 am to 5:00 pm. Spend the day\ndiscovering
  the history of your favorite beach town! This event will\nallow you to st
 ep into the past as you tour some of Ocean City’s\noldest sites. At each
  walk-in location\, an docent will be on-site to\ndiscuss the unique histo
 ry of the building. The Historic Sites Tour is\na fundraiser that will hel
 p strengthen and grow the George and Suzanne\nHurley Memorial Scholarship 
 Fund.\nTickets: Museum Members - $25\, General - $30\nPurchase your ticket
 s here: https://bit.ly/ticketsforhistoricsitestour\nNew This Year!\nWhen y
 ou purchase your tickets online early you'll be given the option\nto sign 
 up for one of two guided tours of select sites included in the\nHistoric S
 ites Tour. Enjoy a walk as your guide shares stories of old\ndowntown Ocea
 n City. This guided portion will be about an hour and\nhalf walk from the 
 Inlet\, up to City Hall on and back down the\nboardwalk to the Ocean City 
 Life-Saving Station Museum\, a mile and a\nhalf round trip of walking. Thi
 s guided tour will not take you to all\nof the sites of the Historic Sites
  Tour\, you will be able to visit\nthose before or after your guided tour 
 on your own. These 2 guided\ntours will fill up quickly\, so be sure to pu
 rchase your tickets online\nsoon!\n
X-ALT-DESC;FMTTYPE=text/html:<p>Saturday May 11th\, the Ocean City Museum S
 ociety will have its Historic Sites Tour from 10:00 am to 5:00 pm. Spend t
 he day discovering the history of your favorite beach town! This event wil
 l allow you to step into the past as you tour some of Ocean City&rsquo\;s 
 oldest sites. At each walk-in location\, an docent will be on-site to disc
 uss the unique history of the building. The Historic Sites Tour is a fundr
 aiser that will help strengthen and grow the George and Suzanne Hurley Mem
 orial Scholarship Fund.<br />\nTickets: Museum Members - $25\, General - $
 30<br />\nPurchase your tickets here: <a href=\"https://bit.ly/ticketsforh
 istoricsitestour\" target=\"_blank\">https://bit.ly/ticketsforhistoricsite
 stour</a><br />\nNew This Year!<br />\nWhen you purchase your tickets onli
 ne early you&#39\;ll be given the option to sign up for one of two guided 
 tours of select sites included in the Historic Sites Tour. Enjoy a walk as
  your guide shares stories of old downtown Ocean City. This guided portion
  will be about an hour and half walk from the Inlet\, up to City Hall on a
 nd back down the boardwalk to the Ocean City Life-Saving Station Museum\, 
 a mile and a half round trip of walking. This guided tour will not take yo
 u to all of the sites of the Historic Sites Tour\, you will be able to vis
 it those before or after your guided tour on your own. These 2 guided tour
 s will fill up quickly\, so be sure to purchase your tickets online soon!<
 /p>
DTSTAMP:20260422T170225Z
END:VEVENT
END:VCALENDAR